BEGIN:VCALENDAR
VERSION:2.0
PRODID:-//The Joyful Gourmet - ECPv6.15.11//NONSGML v1.0//EN
CALSCALE:GREGORIAN
METHOD:PUBLISH
X-WR-CALNAME:The Joyful Gourmet
X-ORIGINAL-URL:https://www.thejoyfulgourmet.com
X-WR-CALDESC:Events for The Joyful Gourmet
REFRESH-INTERVAL;VALUE=DURATION:PT1H
X-Robots-Tag:noindex
X-PUBLISHED-TTL:PT1H
BEGIN:VTIMEZONE
TZID:America/Chicago
BEGIN:DAYLIGHT
TZOFFSETFROM:-0600
TZOFFSETTO:-0500
TZNAME:CDT
DTSTART:20230312T080000
END:DAYLIGHT
BEGIN:STANDARD
TZOFFSETFROM:-0500
TZOFFSETTO:-0600
TZNAME:CST
DTSTART:20231105T070000
END:STANDARD
BEGIN:DAYLIGHT
TZOFFSETFROM:-0600
TZOFFSETTO:-0500
TZNAME:CDT
DTSTART:20240310T080000
END:DAYLIGHT
BEGIN:STANDARD
TZOFFSETFROM:-0500
TZOFFSETTO:-0600
TZNAME:CST
DTSTART:20241103T070000
END:STANDARD
BEGIN:DAYLIGHT
TZOFFSETFROM:-0600
TZOFFSETTO:-0500
TZNAME:CDT
DTSTART:20250309T080000
END:DAYLIGHT
BEGIN:STANDARD
TZOFFSETFROM:-0500
TZOFFSETTO:-0600
TZNAME:CST
DTSTART:20251102T070000
END:STANDARD
END:VTIMEZONE
BEGIN:VEVENT
DTSTART;TZID=America/Chicago:20241228T180000
DTEND;TZID=America/Chicago:20241228T210000
DTSTAMP:20260421T205814
CREATED:20241118T172958Z
LAST-MODIFIED:20241118T172958Z
UID:66699-1735408800-1735419600@www.thejoyfulgourmet.com
SUMMARY:Beef Wellington!
DESCRIPTION:Join us for a special Demonstration/Chef Side Table Cooking Class on December 28th\, where you’ll witness the creation of a classic Beef Wellington\, alongside two delectable sides: creamy Pomme Puré and Bourbon Cider-glazed Roasted Brussels Sprouts. Watch as our expert chef shares tips and techniques for perfectly cooking the Beef Wellington\, while you learn how to elevate your sides to complement this elegant dish. It’s a fantastic opportunity to enhance your culinary skills in a festive atmosphere\, perfect for the holiday season—reserve your spot and let’s celebrate with this gourmet menu! \nParticipation: Demonstration/Chef Side Table Event.  Chef Louis will walk you through how to make the perfect Beef Wellington and give you lots of tips and tricks along the way. \nMenu: \n\nBeef Wellington\nPomme Puré\nBourbon Cider Glazed Rossted Brussel Sprouts\n\nChef: Louis \nOne glass of wine or beer is included with the event.  Additional glasses are available for purchase at the wine bar. \n10% off all regularly priced merchandise during the event. \n 
URL:https://www.thejoyfulgourmet.com/event/beef-wellington-3/
LOCATION:Private: The Joyful Gourmet\, 542 N Milwaukee Ave.\, Libertyville\, IL\, 60048\, United States
ATTACH;FMTTYPE=image/jpeg:https://www.thejoyfulgourmet.com/wp-content/uploads/2024/11/perfect-homemade-beef-wellington-2023-11-27-05-10-33-utc-scaled.jpg
END:VEVENT
END:VCALENDAR