BEGIN:VCALENDAR
VERSION:2.0
PRODID:-//The Joyful Gourmet - ECPv6.15.11//NONSGML v1.0//EN
CALSCALE:GREGORIAN
METHOD:PUBLISH
X-WR-CALNAME:The Joyful Gourmet
X-ORIGINAL-URL:https://www.thejoyfulgourmet.com
X-WR-CALDESC:Events for The Joyful Gourmet
REFRESH-INTERVAL;VALUE=DURATION:PT1H
X-Robots-Tag:noindex
X-PUBLISHED-TTL:PT1H
BEGIN:VTIMEZONE
TZID:America/Chicago
BEGIN:DAYLIGHT
TZOFFSETFROM:-0600
TZOFFSETTO:-0500
TZNAME:CDT
DTSTART:20220313T080000
END:DAYLIGHT
BEGIN:STANDARD
TZOFFSETFROM:-0500
TZOFFSETTO:-0600
TZNAME:CST
DTSTART:20221106T070000
END:STANDARD
BEGIN:DAYLIGHT
TZOFFSETFROM:-0600
TZOFFSETTO:-0500
TZNAME:CDT
DTSTART:20230312T080000
END:DAYLIGHT
BEGIN:STANDARD
TZOFFSETFROM:-0500
TZOFFSETTO:-0600
TZNAME:CST
DTSTART:20231105T070000
END:STANDARD
BEGIN:DAYLIGHT
TZOFFSETFROM:-0600
TZOFFSETTO:-0500
TZNAME:CDT
DTSTART:20240310T080000
END:DAYLIGHT
BEGIN:STANDARD
TZOFFSETFROM:-0500
TZOFFSETTO:-0600
TZNAME:CST
DTSTART:20241103T070000
END:STANDARD
END:VTIMEZONE
BEGIN:VEVENT
DTSTART;TZID=America/Chicago:20230221T180000
DTEND;TZID=America/Chicago:20230221T203000
DTSTAMP:20260420T032117
CREATED:20221215T155819Z
LAST-MODIFIED:20230218T161127Z
UID:15437-1677002400-1677011400@www.thejoyfulgourmet.com
SUMMARY:Casual Cuisine: Eggplant Parmesan
DESCRIPTION:Full Participation \nCasual Cuisine is a new class Chef Judy will be teaching twice a month on Tuesday nights. The menu will focus on easy weeknight meals that are full of flavor but don’t take hours to prepare. Each class you will learn basic knife skills\, cooking techniques\, and tricks of the trade to make cooking fun and easy. Most classes will be full participation\, but there might be come exceptions due to time constraints. We hope you will join us for a fun night out with friends and maybe even leave class with new ones! \nYou will learn to make easy eggplant parmesan tower with goat cheese\, ricotta\, basil. \nWe offer a delicious imported pasta in the store that we’ll cook up for a soft bed to put our eggplant. \nWe will talk about sauce and make a homemade batch of marinara sauce that can be divided and frozen for later use- a good sauce to make on a Sunday afternoon. \nWe love a meal with good bread\, so each of you will make my Grandmother’s Irish soda bread with buttermilk\, oh so good\, I think it goes with everything. \nNo meal is complete without something sweet\, so you will make a moist chocolate cake that has a secret ingredient that may surprise you! Served with vanilla-infused Crème fraîche. \nA glass of wine and a small charcuterie board will be served with this dinner. Coffee\, water and tea are complimentary. Participants receive 10% off all in store purchases during the class! \n 
URL:https://www.thejoyfulgourmet.com/event/casual-cuisine-eggplant-parmesan/
LOCATION:Private: The Joyful Gourmet\, 542 N Milwaukee Ave.\, Libertyville\, IL\, 60048\, United States
ATTACH;FMTTYPE=image/png:https://www.thejoyfulgourmet.com/wp-content/uploads/2022/12/Casual-Cuisine-900-×-700-px-1.png
END:VEVENT
END:VCALENDAR