BEGIN:VCALENDAR
VERSION:2.0
PRODID:-//The Joyful Gourmet - ECPv6.15.11//NONSGML v1.0//EN
CALSCALE:GREGORIAN
METHOD:PUBLISH
X-WR-CALNAME:The Joyful Gourmet
X-ORIGINAL-URL:https://www.thejoyfulgourmet.com
X-WR-CALDESC:Events for The Joyful Gourmet
REFRESH-INTERVAL;VALUE=DURATION:PT1H
X-Robots-Tag:noindex
X-PUBLISHED-TTL:PT1H
BEGIN:VTIMEZONE
TZID:America/Chicago
BEGIN:DAYLIGHT
TZOFFSETFROM:-0600
TZOFFSETTO:-0500
TZNAME:CDT
DTSTART:20210314T080000
END:DAYLIGHT
BEGIN:STANDARD
TZOFFSETFROM:-0500
TZOFFSETTO:-0600
TZNAME:CST
DTSTART:20211107T070000
END:STANDARD
BEGIN:DAYLIGHT
TZOFFSETFROM:-0600
TZOFFSETTO:-0500
TZNAME:CDT
DTSTART:20220313T080000
END:DAYLIGHT
BEGIN:STANDARD
TZOFFSETFROM:-0500
TZOFFSETTO:-0600
TZNAME:CST
DTSTART:20221106T070000
END:STANDARD
BEGIN:DAYLIGHT
TZOFFSETFROM:-0600
TZOFFSETTO:-0500
TZNAME:CDT
DTSTART:20230312T080000
END:DAYLIGHT
BEGIN:STANDARD
TZOFFSETFROM:-0500
TZOFFSETTO:-0600
TZNAME:CST
DTSTART:20231105T070000
END:STANDARD
END:VTIMEZONE
BEGIN:VEVENT
DTSTART;TZID=America/Chicago:20220707T110000
DTEND;TZID=America/Chicago:20220707T130000
DTSTAMP:20260419T135144
CREATED:20220706T002721Z
LAST-MODIFIED:20220706T003146Z
UID:12545-1657191600-1657198800@www.thejoyfulgourmet.com
SUMMARY:Farmer's Market Pop-up Jul 7th
DESCRIPTION:Stop in to see some of our latest things for your cooking\, baking and hosting.   And while you’re browsing check out what Chef Judy has going on in the kitchen.   She’ll pick a few things from this week’s market and highlight them in a few creative recipes.  No reservation needed – just stop in for a free bite!
URL:https://www.thejoyfulgourmet.com/event/farmers-market-pop-up-jul-7th/
LOCATION:Private: The Joyful Gourmet\, 542 N Milwaukee Ave.\, Libertyville\, IL\, 60048\, United States
END:VEVENT
END:VCALENDAR