BEGIN:VCALENDAR
VERSION:2.0
PRODID:-//The Joyful Gourmet - ECPv6.15.11//NONSGML v1.0//EN
CALSCALE:GREGORIAN
METHOD:PUBLISH
X-WR-CALNAME:The Joyful Gourmet
X-ORIGINAL-URL:https://www.thejoyfulgourmet.com
X-WR-CALDESC:Events for The Joyful Gourmet
REFRESH-INTERVAL;VALUE=DURATION:PT1H
X-Robots-Tag:noindex
X-PUBLISHED-TTL:PT1H
BEGIN:VTIMEZONE
TZID:America/Chicago
BEGIN:DAYLIGHT
TZOFFSETFROM:-0600
TZOFFSETTO:-0500
TZNAME:CDT
DTSTART:20220313T080000
END:DAYLIGHT
BEGIN:STANDARD
TZOFFSETFROM:-0500
TZOFFSETTO:-0600
TZNAME:CST
DTSTART:20221106T070000
END:STANDARD
BEGIN:DAYLIGHT
TZOFFSETFROM:-0600
TZOFFSETTO:-0500
TZNAME:CDT
DTSTART:20230312T080000
END:DAYLIGHT
BEGIN:STANDARD
TZOFFSETFROM:-0500
TZOFFSETTO:-0600
TZNAME:CST
DTSTART:20231105T070000
END:STANDARD
BEGIN:DAYLIGHT
TZOFFSETFROM:-0600
TZOFFSETTO:-0500
TZNAME:CDT
DTSTART:20240310T080000
END:DAYLIGHT
BEGIN:STANDARD
TZOFFSETFROM:-0500
TZOFFSETTO:-0600
TZNAME:CST
DTSTART:20241103T070000
END:STANDARD
END:VTIMEZONE
BEGIN:VEVENT
DTSTART;TZID=America/Chicago:20231007T123000
DTEND;TZID=America/Chicago:20231007T143000
DTSTAMP:20260419T182949
CREATED:20230824T170846Z
LAST-MODIFIED:20231005T180214Z
UID:24927-1696681800-1696689000@www.thejoyfulgourmet.com
SUMMARY:Gale Gand - Bean Class - Vanilla\, Chocolate\, and Coffee
DESCRIPTION:Gale Gand is an American pastry chef\, cookbook author\, and television personality.  She has been an executive pastry chef at several high end restaurants in the United States and has won several James Beard Foundation Awards for her work.  We are so grateful that she continues to share her passion for pastries through teaching at The Joyful Gourmet! \n  \nParticipation: Chef Demonstration \nMenu: \n\nLily’s Marble Cake\nCoffee Cardamom Pots de Crème\nVanilla and Blueberry Pan Cheesecake\n\nChef: Gale Gand \nCoffee and Tea are complimentary.  Wine\, beer\, soda\, and San Pelligrino can be purchased at the wine bar. \n10% off all regularly priced merchandise during the event. \n 
URL:https://www.thejoyfulgourmet.com/event/gale-gand-bean-class-vanilla-chocolate-and-coffee/
LOCATION:Private: The Joyful Gourmet\, 542 N Milwaukee Ave.\, Libertyville\, IL\, 60048\, United States
ATTACH;FMTTYPE=image/jpeg:https://www.thejoyfulgourmet.com/wp-content/uploads/2023/08/gale-gand.jpeg
END:VEVENT
END:VCALENDAR