BEGIN:VCALENDAR
VERSION:2.0
PRODID:-//The Joyful Gourmet - ECPv6.15.11//NONSGML v1.0//EN
CALSCALE:GREGORIAN
METHOD:PUBLISH
X-WR-CALNAME:The Joyful Gourmet
X-ORIGINAL-URL:https://www.thejoyfulgourmet.com
X-WR-CALDESC:Events for The Joyful Gourmet
REFRESH-INTERVAL;VALUE=DURATION:PT1H
X-Robots-Tag:noindex
X-PUBLISHED-TTL:PT1H
BEGIN:VTIMEZONE
TZID:America/Chicago
BEGIN:DAYLIGHT
TZOFFSETFROM:-0600
TZOFFSETTO:-0500
TZNAME:CDT
DTSTART:20240310T080000
END:DAYLIGHT
BEGIN:STANDARD
TZOFFSETFROM:-0500
TZOFFSETTO:-0600
TZNAME:CST
DTSTART:20241103T070000
END:STANDARD
BEGIN:DAYLIGHT
TZOFFSETFROM:-0600
TZOFFSETTO:-0500
TZNAME:CDT
DTSTART:20250309T080000
END:DAYLIGHT
BEGIN:STANDARD
TZOFFSETFROM:-0500
TZOFFSETTO:-0600
TZNAME:CST
DTSTART:20251102T070000
END:STANDARD
BEGIN:DAYLIGHT
TZOFFSETFROM:-0600
TZOFFSETTO:-0500
TZNAME:CDT
DTSTART:20260308T080000
END:DAYLIGHT
BEGIN:STANDARD
TZOFFSETFROM:-0500
TZOFFSETTO:-0600
TZNAME:CST
DTSTART:20261101T070000
END:STANDARD
END:VTIMEZONE
BEGIN:VEVENT
DTSTART;TZID=America/Chicago:20250320T180000
DTEND;TZID=America/Chicago:20250320T210000
DTSTAMP:20260419T073743
CREATED:20250209T233354Z
LAST-MODIFIED:20250220T233507Z
UID:69159-1742493600-1742504400@www.thejoyfulgourmet.com
SUMMARY:Hands-On! Spring Pea Risotto paired with Rustic Herb Chicken
DESCRIPTION:Join us for a hands-on cooking experience as we dive into the art of making a creamy\, vibrant Spring Pea Risotto! In this class\, you’ll learn the technique of preparing the perfect risotto\, while celebrating the flavors of fresh spring peas and seasonal vegetables. \nOur Chef-Instructor\, Mickey Knutson\, will guide you step-by-step through the process—from selecting the best ingredients to mastering the art of stirring and achieving the perfect consistency for Risotto. You’ll also learn essential tips on how to infuse the dish with aromatic herbs\, create a velvety texture\, and enhance the flavor with a delicate balance of cheese and butter. \nWhether you’re a beginner or an experienced cook\, this class will leave you feeling confident in preparing a delicious and elegant risotto\, soup and dessert that’s perfect for any occasion. \nWhat you’ll learn: \n\nTransform whole\, fresh leeks and potatoes into a simmering\, blended soup.\nCreate compound butter.\nHands-on experience perfecting classic risotto techniques to achieve a creamy\, flavorful Risotto.\nLearn to make a Lemon Olive Oil Cake Batter at home while you whip up mascarpone\n\nLet’s welcome the new season with fresh\, wholesome flavors—reserve your spot today and take your risotto game to the next level! \nHands-On – Participation Cooking Class: Aprons and workstations will be set up for you while your Chef-Instructor walks you through each course and giving you lots of tips and tricks along the way. \nMenu: \n\nSpring Leek and Potato Soup with Creme Fraiche\nPan Roasted Chicken Thighs with Spring Pea Risotto\, Lemon-Thyme Butter\nLemon Olive Oil Cake with Mascarpone and Berries\n\nChef: Mickey Knutson  \nOne glass of wine or beer is included with the event.  Additional glasses are available for purchase at the wine bar. \n10% off all regularly priced merchandise during the event.
URL:https://www.thejoyfulgourmet.com/event/hands-on-spring-pea-risotto-paired-with-rustic-herb-chicken/
LOCATION:Private: The Joyful Gourmet\, 542 N Milwaukee Ave.\, Libertyville\, IL\, 60048\, United States
ATTACH;FMTTYPE=image/jpeg:https://www.thejoyfulgourmet.com/wp-content/uploads/2025/02/risotto-chx-thigh.jpg
END:VEVENT
END:VCALENDAR