BEGIN:VCALENDAR
VERSION:2.0
PRODID:-//The Joyful Gourmet - ECPv6.15.11//NONSGML v1.0//EN
CALSCALE:GREGORIAN
METHOD:PUBLISH
X-WR-CALNAME:The Joyful Gourmet
X-ORIGINAL-URL:https://www.thejoyfulgourmet.com
X-WR-CALDESC:Events for The Joyful Gourmet
REFRESH-INTERVAL;VALUE=DURATION:PT1H
X-Robots-Tag:noindex
X-PUBLISHED-TTL:PT1H
BEGIN:VTIMEZONE
TZID:America/Chicago
BEGIN:DAYLIGHT
TZOFFSETFROM:-0600
TZOFFSETTO:-0500
TZNAME:CDT
DTSTART:20230312T080000
END:DAYLIGHT
BEGIN:STANDARD
TZOFFSETFROM:-0500
TZOFFSETTO:-0600
TZNAME:CST
DTSTART:20231105T070000
END:STANDARD
BEGIN:DAYLIGHT
TZOFFSETFROM:-0600
TZOFFSETTO:-0500
TZNAME:CDT
DTSTART:20240310T080000
END:DAYLIGHT
BEGIN:STANDARD
TZOFFSETFROM:-0500
TZOFFSETTO:-0600
TZNAME:CST
DTSTART:20241103T070000
END:STANDARD
BEGIN:DAYLIGHT
TZOFFSETFROM:-0600
TZOFFSETTO:-0500
TZNAME:CDT
DTSTART:20250309T080000
END:DAYLIGHT
BEGIN:STANDARD
TZOFFSETFROM:-0500
TZOFFSETTO:-0600
TZNAME:CST
DTSTART:20251102T070000
END:STANDARD
END:VTIMEZONE
BEGIN:VEVENT
DTSTART;TZID=America/Chicago:20240514T180000
DTEND;TZID=America/Chicago:20240514T210000
DTSTAMP:20260420T211045
CREATED:20240404T233158Z
LAST-MODIFIED:20240404T233158Z
UID:53690-1715709600-1715720400@www.thejoyfulgourmet.com
SUMMARY:Korean Style Street Food!
DESCRIPTION:Embark on a culinary journey to Seoul with our Korean Street Food cooking class\, where Chef Laura will guide you through crafting mouthwatering street food delights such as Ttoekbokki\, Gimbap\, Pajeon\, Dakkochi\, and Hotteok. Experience the vibrant flavors and bold spices of Korean cuisine as you master the art of street food favorites. Get ready to sizzle your senses and ignite your taste buds with this unforgettable fusion of flavors straight from the bustling streets of Korea. Let’s cook up a storm and elevate your culinary skills to new heights! Join us for a taste of Korea that will leave you craving more – Annyeong! \nParticipation:  Hands On! \nMenu: \n\nTtoekbokki (Rice Cakes in a Spicy Sauce)\nGimbap (Korean Version of California Sushi Roll)\nPajeon (Korean Scallion Pancake)\nDakkochi (Chicken Skewer in a Sweet Soy Sauce)\nHottoek (Korean Sweet Pancake Filled with Brown Sugar and Peanuts)\n\nChef: Laura \n\n\nOne glass of wine or beer is included with the event.  Additional glasses are available for purchase at the wine bar. \n10% off all regularly priced merchandise during the event.
URL:https://www.thejoyfulgourmet.com/event/korean-style-street-food/
LOCATION:Private: The Joyful Gourmet\, 542 N Milwaukee Ave.\, Libertyville\, IL\, 60048\, United States
ATTACH;FMTTYPE=image/jpeg:https://www.thejoyfulgourmet.com/wp-content/uploads/2024/02/korean-Street-Food.jpeg
END:VEVENT
END:VCALENDAR