BEGIN:VCALENDAR
VERSION:2.0
PRODID:-//The Joyful Gourmet - ECPv6.15.11//NONSGML v1.0//EN
CALSCALE:GREGORIAN
METHOD:PUBLISH
X-WR-CALNAME:The Joyful Gourmet
X-ORIGINAL-URL:https://www.thejoyfulgourmet.com
X-WR-CALDESC:Events for The Joyful Gourmet
REFRESH-INTERVAL;VALUE=DURATION:PT1H
X-Robots-Tag:noindex
X-PUBLISHED-TTL:PT1H
BEGIN:VTIMEZONE
TZID:America/Chicago
BEGIN:DAYLIGHT
TZOFFSETFROM:-0600
TZOFFSETTO:-0500
TZNAME:CDT
DTSTART:20230312T080000
END:DAYLIGHT
BEGIN:STANDARD
TZOFFSETFROM:-0500
TZOFFSETTO:-0600
TZNAME:CST
DTSTART:20231105T070000
END:STANDARD
BEGIN:DAYLIGHT
TZOFFSETFROM:-0600
TZOFFSETTO:-0500
TZNAME:CDT
DTSTART:20240310T080000
END:DAYLIGHT
BEGIN:STANDARD
TZOFFSETFROM:-0500
TZOFFSETTO:-0600
TZNAME:CST
DTSTART:20241103T070000
END:STANDARD
BEGIN:DAYLIGHT
TZOFFSETFROM:-0600
TZOFFSETTO:-0500
TZNAME:CDT
DTSTART:20250309T080000
END:DAYLIGHT
BEGIN:STANDARD
TZOFFSETFROM:-0500
TZOFFSETTO:-0600
TZNAME:CST
DTSTART:20251102T070000
END:STANDARD
END:VTIMEZONE
BEGIN:VEVENT
DTSTART;TZID=America/Chicago:20241012T180000
DTEND;TZID=America/Chicago:20241012T210000
DTSTAMP:20260422T205146
CREATED:20240830T003442Z
LAST-MODIFIED:20240830T003442Z
UID:64188-1728756000-1728766800@www.thejoyfulgourmet.com
SUMMARY:Spanish Paella
DESCRIPTION:Join Chef Drew for an exciting paella class inspired by his recent trip to Spain! In this demonstration class\, you’ll enjoy a delightful mix of flavors starting with a fresh mixed greens salad drizzled with balsamic emulsion\, followed by the star of the show: a classic paella mixta featuring succulent shrimp\, scallops\, chicken\, mussels\, and clams. To finish off the meal\, indulge in a rich and creamy flan. Immerse yourself in the vibrant culinary traditions of Spain and learn tips and techniques to create this festive dish at home! \nParticipation: Demonstration/Chef Side Table Event \nMenu: \n\nMix Greens with Balsamic Emulsion\nPaella Mixta (shrimp\, scallops\, chicken\, mussels\, and clams)\nFlan\n\nChef: Drew \nOne glass of wine or beer is included with the event.  Additional glasses are available for purchase at the wine bar. \n10% off all regularly priced merchandise during the event.
URL:https://www.thejoyfulgourmet.com/event/spanish-paella-3/
LOCATION:Private: The Joyful Gourmet\, 542 N Milwaukee Ave.\, Libertyville\, IL\, 60048\, United States
ATTACH;FMTTYPE=image/jpeg:https://www.thejoyfulgourmet.com/wp-content/uploads/2024/08/paella-mixta.jpeg
END:VEVENT
END:VCALENDAR