BEGIN:VCALENDAR
VERSION:2.0
PRODID:-//The Joyful Gourmet - ECPv6.15.11//NONSGML v1.0//EN
CALSCALE:GREGORIAN
METHOD:PUBLISH
X-WR-CALNAME:The Joyful Gourmet
X-ORIGINAL-URL:https://www.thejoyfulgourmet.com
X-WR-CALDESC:Events for The Joyful Gourmet
REFRESH-INTERVAL;VALUE=DURATION:PT1H
X-Robots-Tag:noindex
X-PUBLISHED-TTL:PT1H
BEGIN:VTIMEZONE
TZID:America/Chicago
BEGIN:DAYLIGHT
TZOFFSETFROM:-0600
TZOFFSETTO:-0500
TZNAME:CDT
DTSTART:20250309T080000
END:DAYLIGHT
BEGIN:STANDARD
TZOFFSETFROM:-0500
TZOFFSETTO:-0600
TZNAME:CST
DTSTART:20251102T070000
END:STANDARD
BEGIN:DAYLIGHT
TZOFFSETFROM:-0600
TZOFFSETTO:-0500
TZNAME:CDT
DTSTART:20260308T080000
END:DAYLIGHT
BEGIN:STANDARD
TZOFFSETFROM:-0500
TZOFFSETTO:-0600
TZNAME:CST
DTSTART:20261101T070000
END:STANDARD
BEGIN:DAYLIGHT
TZOFFSETFROM:-0600
TZOFFSETTO:-0500
TZNAME:CDT
DTSTART:20270314T080000
END:DAYLIGHT
BEGIN:STANDARD
TZOFFSETFROM:-0500
TZOFFSETTO:-0600
TZNAME:CST
DTSTART:20271107T070000
END:STANDARD
END:VTIMEZONE
BEGIN:VEVENT
DTSTART;TZID=America/Chicago:20260507T170000
DTEND;TZID=America/Chicago:20260507T183000
DTSTAMP:20260423T055701
CREATED:20260330T171442Z
LAST-MODIFIED:20260330T171442Z
UID:84843-1778173200-1778178600@www.thejoyfulgourmet.com
SUMMARY:Spring Mixology: Cocktail Making Class: 5:00pm 
DESCRIPTION:Shake\, stir\, and sip your way into the season with this hands-on spring cocktail experience led by expert guest mixologist Shanna! Whether you’re a budding home bartender or just love a well-made drink\, this fun and interactive class will teach you how to craft vibrant\, seasonal cocktails. You’ll learn the secrets behind building perfectly balanced drinks using fresh herbs\, ripe fruits\, house-made syrups\, and high-quality spirits. Shanna will guide you step-by-step through 3 signature spring cocktails. \nLet’s celebrate with a fun\, and interactive cocktail-making experience that’s perfect for couples and friends alike! Join us for a vibrant and hands-on class where you’ll learn to mix seasonal\, delicious cocktails using the freshest\, tastiest ingredients. \nOur expert\, guest mixologist\, Shanna Morefield\, will guide you through crafting THREE seasonal drinks that capture the essence of the season. Whether you’re a seasoned sipper or a beginner\, this class is designed for everyone to enjoy. \n What’s included: \n✨3 Step-by-step cocktail demonstrations \n✨Hands-on experience mixing your own drinks \n✨All ingredients and tools \nParticipation: Hands On! \nMenu: Coming Soon! \nInstructor: Shanna \nComplimentary Charcuterie Board Provided \n10% off all regularly priced merchandise during the event. \nSpring Mixology: Cocktail Making Class: 5:00pm
URL:https://www.thejoyfulgourmet.com/event/spring-mixology-cocktail-making-class-500pm/
LOCATION:Private: The Joyful Gourmet\, 542 N Milwaukee Ave.\, Libertyville\, IL\, 60048\, United States
ATTACH;FMTTYPE=image/jpeg:https://www.thejoyfulgourmet.com/wp-content/uploads/2025/11/cocktail-making-winter-drinks-with-title-in-white-text_-Mixology.jpg
END:VEVENT
END:VCALENDAR